BEGIN:VCALENDAR
VERSION:2.0
PRODID:-//Vespa Club von Deutschland - ECPv6.15.20//NONSGML v1.0//EN
CALSCALE:GREGORIAN
METHOD:PUBLISH
X-WR-CALNAME:Vespa Club von Deutschland
X-ORIGINAL-URL:https://www.vcvd.de
X-WR-CALDESC:Veranstaltungen für Vespa Club von Deutschland
REFRESH-INTERVAL;VALUE=DURATION:PT1H
X-Robots-Tag:noindex
X-PUBLISHED-TTL:PT1H
BEGIN:VTIMEZONE
TZID:Europe/Berlin
BEGIN:DAYLIGHT
TZOFFSETFROM:+0100
TZOFFSETTO:+0200
TZNAME:CEST
DTSTART:20250330T010000
END:DAYLIGHT
BEGIN:STANDARD
TZOFFSETFROM:+0200
TZOFFSETTO:+0100
TZNAME:CET
DTSTART:20251026T010000
END:STANDARD
BEGIN:DAYLIGHT
TZOFFSETFROM:+0100
TZOFFSETTO:+0200
TZNAME:CEST
DTSTART:20260329T010000
END:DAYLIGHT
BEGIN:STANDARD
TZOFFSETFROM:+0200
TZOFFSETTO:+0100
TZNAME:CET
DTSTART:20261025T010000
END:STANDARD
BEGIN:DAYLIGHT
TZOFFSETFROM:+0100
TZOFFSETTO:+0200
TZNAME:CEST
DTSTART:20270328T010000
END:DAYLIGHT
BEGIN:STANDARD
TZOFFSETFROM:+0200
TZOFFSETTO:+0100
TZNAME:CET
DTSTART:20271031T010000
END:STANDARD
END:VTIMEZONE
BEGIN:VEVENT
DTSTART;TZID=Europe/Berlin:20260426T120000
DTEND;TZID=Europe/Berlin:20260426T180000
DTSTAMP:20260420T224917
CREATED:20260117T144707Z
LAST-MODIFIED:20260130T153551Z
UID:3812-1777204800-1777226400@www.vcvd.de
SUMMARY:Kölle Open Day
DESCRIPTION:Mit Teilemarkt und Grillstand \n 
URL:https://www.vcvd.de/termin/koelle-open-day/
LOCATION:Bahnhof Nord\, Bottrop\, Am Vorthbach 10\, Bottrop\, 46240
END:VEVENT
BEGIN:VEVENT
DTSTART;VALUE=DATE:20260503
DTEND;VALUE=DATE:20260504
DTSTAMP:20260420T224917
CREATED:20260218T160232Z
LAST-MODIFIED:20260218T160232Z
UID:3895-1777766400-1777852799@www.vcvd.de
SUMMARY:ADAC / DMC-Reinoldus-Veteranen Youngtimer Ausfahrt
DESCRIPTION:
URL:https://www.vcvd.de/termin/adac-dmc-reinoldus-veteranen-youngtimer-ausfahrt/
LOCATION:Tridelta-Campus\, Ostkirchstraße 177\, Dortmund\, 44287\, Germany
CATEGORIES:Sportmeisterschaft
END:VEVENT
BEGIN:VEVENT
DTSTART;TZID=Europe/Berlin:20260503T100000
DTEND;TZID=Europe/Berlin:20260503T160000
DTSTAMP:20260420T224917
CREATED:20251210T132048Z
LAST-MODIFIED:20251210T132048Z
UID:3659-1777802400-1777824000@www.vcvd.de
SUMMARY:11. Lüneburger Vespa-Basar
DESCRIPTION:
URL:https://www.vcvd.de/termin/11-lueneburger-vespa-basar/
LOCATION:VC Lüneburg\, Arenskule 9\, Lüneburg\, 21339\, Germany
END:VEVENT
BEGIN:VEVENT
DTSTART;VALUE=DATE:20260509
DTEND;VALUE=DATE:20260510
DTSTAMP:20260420T224917
CREATED:20260218T161002Z
LAST-MODIFIED:20260218T161002Z
UID:3903-1778284800-1778371199@www.vcvd.de
SUMMARY:Selztal\, Orientierungsrally
DESCRIPTION:
URL:https://www.vcvd.de/termin/selztal-orientierungsrally/
LOCATION:Ingelheim\, Im Blumengarten\, Ingelheim\, Deutschland
CATEGORIES:Sportmeisterschaft
END:VEVENT
BEGIN:VEVENT
DTSTART;TZID=Europe/Berlin:20260510T110000
DTEND;TZID=Europe/Berlin:20260510T170000
DTSTAMP:20260420T224917
CREATED:20260330T174651Z
LAST-MODIFIED:20260330T174651Z
UID:4038-1778410800-1778432400@www.vcvd.de
SUMMARY:Jubiläumsausfahrt des VC Lippstadt
DESCRIPTION:
URL:https://www.vcvd.de/termin/jubilaeumsausfahrt-des-vc-lippstadt/
LOCATION:Lippstadt\, Am Kirchplatz 3\, Lippstadt-Hellinghausen\, 59556\, Germany
ORGANIZER;CN="VC Lippstadt":MAILTO:info@vc-lippstadt.de
END:VEVENT
BEGIN:VEVENT
DTSTART;VALUE=DATE:20260515
DTEND;VALUE=DATE:20260518
DTSTAMP:20260420T224917
CREATED:20251210T133339Z
LAST-MODIFIED:20251210T133339Z
UID:3664-1778803200-1779062399@www.vcvd.de
SUMMARY:Giro "500 km Vespistica"
DESCRIPTION:VC Amici delle due Tempi & VC Sint-Truiden
URL:https://www.vcvd.de/termin/giro-500-km-vespistica-2/
LOCATION:Château de Looz\, Kasteelstraat 10\, Tongeren-Borgloon\,\, 3840\, Belgium
END:VEVENT
BEGIN:VEVENT
DTSTART;TZID=Europe/Berlin:20260516T100000
DTEND;TZID=Europe/Berlin:20260516T170000
DTSTAMP:20260420T224917
CREATED:20251112T095843Z
LAST-MODIFIED:20251114T221648Z
UID:3517-1778925600-1778950800@www.vcvd.de
SUMMARY:SIP Open Day
DESCRIPTION:Der VCVD wird mit einem Stand vertreten sein.
URL:https://www.vcvd.de/termin/sip-open-day-2/
LOCATION:SIP Scootershop\, Marie-Curie-Str. 4\, Landsberg am Lech\, Bayern\, 86899\, Germany
END:VEVENT
BEGIN:VEVENT
DTSTART;VALUE=DATE:20260522
DTEND;VALUE=DATE:20260524
DTSTAMP:20260420T224917
CREATED:20251118T162640Z
LAST-MODIFIED:20251118T164407Z
UID:3594-1779408000-1779580799@www.vcvd.de
SUMMARY:European Vespa Regularity Championship 2026
DESCRIPTION:
URL:https://www.vcvd.de/termin/european-vespa-regularity-championship-2026/
LOCATION:Zadar\, Obala kneza Trpimira 61\, Zadar\, 23000\, Croatia (Local Name: Hrvatska)
CATEGORIES:Sportmeisterschaft
END:VEVENT
BEGIN:VEVENT
DTSTART;VALUE=DATE:20260523
DTEND;VALUE=DATE:20260525
DTSTAMP:20260420T224917
CREATED:20260218T161709Z
LAST-MODIFIED:20260218T161709Z
UID:3906-1779494400-1779667199@www.vcvd.de
SUMMARY:Scooter Cup Nürburgring
DESCRIPTION:
URL:https://www.vcvd.de/termin/scooter-cup-nuerburgring/
LOCATION:Nürburgring\, Nürburgring Boulevard 1\, Nürburg\, 53520
CATEGORIES:Sportmeisterschaft
END:VEVENT
BEGIN:VEVENT
DTSTART;VALUE=DATE:20260529
DTEND;VALUE=DATE:20260601
DTSTAMP:20260420T224917
CREATED:20251112T100553Z
LAST-MODIFIED:20260218T145944Z
UID:3522-1780012800-1780271999@www.vcvd.de
SUMMARY:40 Jahre Vespa Club Oldenburg 1986
DESCRIPTION:Einladung Jubiläumstreffen 2026 \nNennliste Jubiläumstreffen 2026 \nAm Samstag wird im Ramen der Sportmeisterschaft ein Turnierlauf stattfinden.
URL:https://www.vcvd.de/termin/40-jahre-vespa-club-oldenburg-1986/
LOCATION:Hotel & Gesellschaftshaus Ripken\, Borchersweg 150\, Hatten / Streekermoor\, 26209\, Germany
CATEGORIES:Sportmeisterschaft
ORGANIZER;CN="VC Oldenburg":MAILTO:mail@vc-oldenburg.de
END:VEVENT
BEGIN:VEVENT
DTSTART;VALUE=DATE:20260531
DTEND;VALUE=DATE:20260601
DTSTAMP:20260420T224917
CREATED:20251210T141635Z
LAST-MODIFIED:20251210T141635Z
UID:3670-1780185600-1780271999@www.vcvd.de
SUMMARY:Vespa Tre Nazioni Bodensee
DESCRIPTION:
URL:https://www.vcvd.de/termin/vespa-tre-nazioni-bodensee/
END:VEVENT
BEGIN:VEVENT
DTSTART;VALUE=DATE:20260604
DTEND;VALUE=DATE:20260608
DTSTAMP:20260420T224917
CREATED:20251112T094548Z
LAST-MODIFIED:20251112T094548Z
UID:3498-1780531200-1780876799@www.vcvd.de
SUMMARY:European Vespisti Week 2026 Oostende
DESCRIPTION:
URL:https://www.vcvd.de/termin/european-vespisti-week-2026-oostende/
LOCATION:Vespa Village Oostende\, Kon. Astridlaan 10\, Oostende\, 8400\, Belgium
END:VEVENT
BEGIN:VEVENT
DTSTART;TZID=Europe/Berlin:20260604T110000
DTEND;TZID=Europe/Berlin:20260604T110000
DTSTAMP:20260420T224917
CREATED:20251210T205451Z
LAST-MODIFIED:20251210T205852Z
UID:3674-1780570800-1780570800@www.vcvd.de
SUMMARY:Freilassinger Vespatreffen 2026
DESCRIPTION:mit Custom-Show\, Teilemarkt und italienischer Nacht \nBella Vespa – Bella Vita! \nAlle Vespafahrer & Freunde italienischer Lebensfreude aufgepasst: \n📅 Datum: Donnerstag (Fronleichnam)\, 04. Juni 2026\n🕚 Start: 11:00 Uhr\n📍 Ort: Stadtzentrum Freilassing / Fußgängerzone (83395 Freilassing\, Hauptstr.) \nErlebe einen Tag voller Stil\, Sound & Sonne – ganz im Zeichen der legendären Vespa! \nNachdem das erste Treffen im Jahr 2025 ein voller Erfolg war\, wollen wir 2026 nochmal eine ganze Schippe drauflegen. \n🛵 Was dich erwartet:\n👉 Custom-Show mit Pokalvergabe\n👉 Pokale in verschiedenen Kategorien\n👉 Merchandise\n👉 Händlermeile / Teilemarkt\n👉 Leistungsprüfstand (Noch nicht sicher!)\n👉 Weißwurstfrühstück\n👉 Klassische & moderne Vespas\n👉 Italienisches Flair & Dolce Vita\n👉 Leckeres Essen\, gute Musik & mehr\n👉 Vespaweihe\n👉 Vespaausfahrt\n👉 Vespaaustellung\n👉 80 Jahre Vespa\n👉 Foodtrucks\n👉 Moderation\n👉 Liveband\n👉 Mehr Details zur Anmeldung für den Teilemarkt\, die Custom-Show und zum Abendprogramm folgen demnächst \nKomm mit deiner Vespa oder einfach als Fan – wir freuen uns auf dich!\nCiao & bis bald in Freilassing!
URL:https://www.vcvd.de/termin/freilassinger-vespatreffen-2026/
LOCATION:Freilassing\, Hauptstraße\, Freilassing\, 83395\, Germany
ORGANIZER;CN="Stadt Freilassing":MAILTO:https://www.freilassing.de/
END:VEVENT
BEGIN:VEVENT
DTSTART;VALUE=DATE:20260605
DTEND;VALUE=DATE:20260607
DTSTAMP:20260420T224917
CREATED:20251211T104521Z
LAST-MODIFIED:20251211T104532Z
UID:3681-1780617600-1780790399@www.vcvd.de
SUMMARY:Grossglockner Bergpreis
DESCRIPTION:80 Jahre Vespa | 80 years of Vespa |  80 anni di Vespa\nRohrlenker Modelle:\n\nFaro Basso/ Hoffmann/ Motovespa/ Allstate/ Douglas/ ACMA/ Allstate …  
URL:https://www.vcvd.de/termin/grossglockner-bergpreis/
LOCATION:Zell am See\, Zell am See\, 5700\, Austria
END:VEVENT
BEGIN:VEVENT
DTSTART;VALUE=DATE:20260608
DTEND;VALUE=DATE:20260618
DTSTAMP:20260420T224917
CREATED:20251112T111651Z
LAST-MODIFIED:20251208T163406Z
UID:3537-1780876800-1781740799@www.vcvd.de
SUMMARY:Vespa Alp Days 2026
DESCRIPTION:Haupttage vom 11. bis 14. Juni 2026
URL:https://www.vcvd.de/termin/vespa-alp-days-2026/
LOCATION:Zell am See\, Zell am See\, 5700\, Austria
END:VEVENT
BEGIN:VEVENT
DTSTART;VALUE=DATE:20260613
DTEND;VALUE=DATE:20260615
DTSTAMP:20260420T224917
CREATED:20251112T102613Z
LAST-MODIFIED:20251112T102803Z
UID:3524-1781308800-1781481599@www.vcvd.de
SUMMARY:10 Jahre Chiemgau Tec Production
DESCRIPTION:
URL:https://www.vcvd.de/termin/10-jahre-chiemgau-tec-production/
LOCATION:Chiemgau Tec Production C.T.P\, Schralling 2\, Riedering\, 83083\, Germany
ORGANIZER;CN="Chiemgau Tec Production":MAILTO:info@chiemgautecproduction.de
END:VEVENT
BEGIN:VEVENT
DTSTART;VALUE=DATE:20260613
DTEND;VALUE=DATE:20260627
DTSTAMP:20260420T224917
CREATED:20251112T104356Z
LAST-MODIFIED:20251112T104356Z
UID:3531-1781308800-1782518399@www.vcvd.de
SUMMARY:Nordkapp Classic Raid IV
DESCRIPTION:
URL:https://www.vcvd.de/termin/nordkapp-classic-raid-iv/
END:VEVENT
BEGIN:VEVENT
DTSTART;TZID=Europe/Berlin:20260614T100000
DTEND;TZID=Europe/Berlin:20260614T170000
DTSTAMP:20260420T224917
CREATED:20260318T064829Z
LAST-MODIFIED:20260318T064829Z
UID:4010-1781431200-1781456400@www.vcvd.de
SUMMARY:Vespa Treffen Memmingen
DESCRIPTION:
URL:https://www.vcvd.de/termin/vespa-treffen-memmingen/
LOCATION:Schlachthofstraße 46\, Memmingen\, Schlachthofstraße 46\, Memmingen\, 87700\, Germany
END:VEVENT
BEGIN:VEVENT
DTSTART;TZID=Europe/Berlin:20260614T110000
DTEND;TZID=Europe/Berlin:20260614T110000
DTSTAMP:20260420T224917
CREATED:20260417T061911Z
LAST-MODIFIED:20260417T061911Z
UID:4057-1781434800-1781434800@www.vcvd.de
SUMMARY:Beschleunigungsrennen Steißlingen
DESCRIPTION:
URL:https://www.vcvd.de/termin/beschleunigungsrennen-steisslingen/
LOCATION:Industriegebiet Steißlingen\, Industriestraße 15\, Steißlingen\, 78256\, Germany
END:VEVENT
BEGIN:VEVENT
DTSTART;VALUE=DATE:20260619
DTEND;VALUE=DATE:20260622
DTSTAMP:20260420T224917
CREATED:20251211T141639Z
LAST-MODIFIED:20251211T142223Z
UID:3689-1781827200-1782086399@www.vcvd.de
SUMMARY:Classic Scooter Run Norwegen 2026
DESCRIPTION:
URL:https://www.vcvd.de/termin/classic-scooter-run-norwegen-2026/
LOCATION:Fana folkehøgskule\, Mildevegen 190\, Hjellestad\, 5259\, Norway
END:VEVENT
BEGIN:VEVENT
DTSTART;VALUE=DATE:20260625
DTEND;VALUE=DATE:20260629
DTSTAMP:20260420T224917
CREATED:20251112T094225Z
LAST-MODIFIED:20260213T094233Z
UID:3504-1782345600-1782691199@www.vcvd.de
SUMMARY:Vespa World Days 2026 Rom
DESCRIPTION:80 Years of an Icon – Vespa World Club \nBei einer Generalversammlung des Vespa World Clubs sowie durch neue Infos (Stand 31.01.2026) wurden folgende Punkte bekannt: \n\nInsgesamt wird es ca. 15.000 Tickets geben.\nDer VCVD erhält ein Kontingent von 8\,2 %\, das entspricht 1.223 Plätzen.\nTicketpreis: 120 €.\nRegistrierungsstart: Mitte Februar 2026 über ein komplett neues Online-Tool.\nDieses Tool ist dem VCVD aktuell noch nicht zugänglich; alle Clubs müssen neu angelegt werden. Zugangsdaten werden anschließend an die Clubs verteilt.\nIm Ticket enthalten: T-Shirt\, Plakette\, Sticker\, Bandana\, Button\, ein Goodie-Bag (Details teils noch unklar) sowie ein reservierter/bewachter Parkplatz.\nZusätzlich sind evtl. Rabatte im Vespa Village geplant.\nKein Gala-Dinner bei den VWD 2026.\nDas Vespa Village ist öffentlich und kostenlos zugänglich.\nZweitakter: Es ist weiterhin nicht geklärt\, ob und wo Zweitakter in Rom fahren dürfen.\nExtra-Event: Registrierte Teilnehmer können sich für ein Ticket zum ausverkauften Tiziano-Ferro-Konzert am Samstag bewerben (Ticket nicht im Nenngeld enthalten).\n\nDie Mitgliedsclubs erhalten kurzfristig einen Newsletter mit weiteren Details. \nBisherige Infos: \n\nVespa – 2026 feiert Vespa 80 Jahre\nSIP – Vespa World Days 2026 in Rom\, Italien
URL:https://www.vcvd.de/termin/vespa-world-days-2026-rom/
LOCATION:Foro Italico\, Viale del Foro Italico\, Roma\, 00135\, Italy
END:VEVENT
BEGIN:VEVENT
DTSTART;VALUE=DATE:20260710
DTEND;VALUE=DATE:20260713
DTSTAMP:20260420T224917
CREATED:20251112T115110Z
LAST-MODIFIED:20251112T115110Z
UID:3547-1783641600-1783900799@www.vcvd.de
SUMMARY:B-Rennen Flugplatz Karlshöfen 2026
DESCRIPTION:
URL:https://www.vcvd.de/termin/b-rennen-flugplatz-karlshoefen-2026/
LOCATION:Flugplatz Karlshöfen\, Brokdamm 1\, Gnarrenburg\, 27442\, Germany
END:VEVENT
BEGIN:VEVENT
DTSTART;VALUE=DATE:20260725
DTEND;VALUE=DATE:20260726
DTSTAMP:20260420T224917
CREATED:20260218T162357Z
LAST-MODIFIED:20260218T162357Z
UID:3909-1784937600-1785023999@www.vcvd.de
SUMMARY:Grasbahnrennen Schwarme
DESCRIPTION:
URL:https://www.vcvd.de/termin/grasbahnrennen-schwarme/
LOCATION:Schwarme\, An d. Rennbahn\, Schwarme\, 27327
CATEGORIES:Sportmeisterschaft
END:VEVENT
BEGIN:VEVENT
DTSTART;VALUE=DATE:20260731
DTEND;VALUE=DATE:20260802
DTSTAMP:20260420T224917
CREATED:20251112T120135Z
LAST-MODIFIED:20251112T120135Z
UID:3552-1785456000-1785628799@www.vcvd.de
SUMMARY:Sommerfest VC Regensburg
DESCRIPTION:
URL:https://www.vcvd.de/termin/sommerfest-vc-regensburg/
LOCATION:Bad Abbach\, Inselstr. 1a\, Bad Abbach\, 93077\, Germany
END:VEVENT
BEGIN:VEVENT
DTSTART;VALUE=DATE:20260801
DTEND;VALUE=DATE:20260802
DTSTAMP:20260420T224917
CREATED:20251112T130517Z
LAST-MODIFIED:20251118T162713Z
UID:3559-1785542400-1785628799@www.vcvd.de
SUMMARY:Deister Roller Fahrt 2026
DESCRIPTION:
URL:https://www.vcvd.de/termin/deister-roller-fahrt-2026/
LOCATION:Jagdschloss Springe\, Jagdschloss\, Springe\, 31832\, Germany
CATEGORIES:Sportmeisterschaft
END:VEVENT
BEGIN:VEVENT
DTSTART;VALUE=DATE:20260821
DTEND;VALUE=DATE:20260824
DTSTAMP:20260420T224917
CREATED:20251112T131105Z
LAST-MODIFIED:20260302T065403Z
UID:3564-1787270400-1787529599@www.vcvd.de
SUMMARY:13. German Vespa Rally
DESCRIPTION:Gastgeber\nRegion\nAusschreibung & Programm\nPackages & Preise\nLocation & Anfahrt\nÜbernachtung
URL:https://www.vcvd.de/termin/13-german-vespa-rally/
LOCATION:Skippertreff Bremen\, Strandweg 100\, Bremen\, 28201\, Germany
CATEGORIES:Sportmeisterschaft
END:VEVENT
BEGIN:VEVENT
DTSTART;TZID=Europe/Berlin:20260821T113000
DTEND;TZID=Europe/Berlin:20260823T150000
DTSTAMP:20260420T224917
CREATED:20251223T093147Z
LAST-MODIFIED:20260103T155208Z
UID:3740-1787311800-1787497200@www.vcvd.de
SUMMARY:British Vespa Days 2026 Bristol
DESCRIPTION:Screenshot
URL:https://www.vcvd.de/termin/british-vespa-days-2026-bristol/
LOCATION:Cleve RFC\, BS16 9EN
END:VEVENT
BEGIN:VEVENT
DTSTART;VALUE=DATE:20260822
DTEND;VALUE=DATE:20260823
DTSTAMP:20260420T224917
CREATED:20260216T104738Z
LAST-MODIFIED:20260216T104738Z
UID:3876-1787356800-1787443199@www.vcvd.de
SUMMARY:10 Jahre Passione Vespaclub Wolfsburg
DESCRIPTION:
URL:https://www.vcvd.de/termin/10-jahre-passione-vespaclub-wolfsburg/
LOCATION:Hollerplatz\, Wolfsburg\, Hollerplatz\, Wolfsburg\, 38440\, Germany
END:VEVENT
BEGIN:VEVENT
DTSTART;VALUE=DATE:20260828
DTEND;VALUE=DATE:20260831
DTSTAMP:20260420T224917
CREATED:20251112T131836Z
LAST-MODIFIED:20251112T131836Z
UID:3567-1787875200-1788134399@www.vcvd.de
SUMMARY:40 Jahre Vespa Club Celle
DESCRIPTION:
URL:https://www.vcvd.de/termin/40-jahre-vespa-club-celle/
LOCATION:Winsen-Walle\, Sportplatz\, Am Sportheim 1\, Winsen-Walle\, 29308\, Germany
END:VEVENT
BEGIN:VEVENT
DTSTART;VALUE=DATE:20260903
DTEND;VALUE=DATE:20260906
DTSTAMP:20260420T224917
CREATED:20251112T132624Z
LAST-MODIFIED:20260218T162958Z
UID:3572-1788393600-1788652799@www.vcvd.de
SUMMARY:Vesbeachi 2026
DESCRIPTION:
URL:https://www.vcvd.de/termin/vesbeachi-2026/
LOCATION:Beachclub Nethen\, Bekhauser Esch 170\, 26180 Rastede\, 26180\, Deutschland
CATEGORIES:Sportmeisterschaft
END:VEVENT
END:VCALENDAR