BEGIN:VCALENDAR
VERSION:2.0
PRODID:-//Vespa Club von Deutschland - ECPv6.15.20//NONSGML v1.0//EN
CALSCALE:GREGORIAN
METHOD:PUBLISH
X-ORIGINAL-URL:https://www.vcvd.de
X-WR-CALDESC:Veranstaltungen für Vespa Club von Deutschland
REFRESH-INTERVAL;VALUE=DURATION:PT1H
X-Robots-Tag:noindex
X-PUBLISHED-TTL:PT1H
BEGIN:VTIMEZONE
TZID:Europe/Berlin
BEGIN:DAYLIGHT
TZOFFSETFROM:+0100
TZOFFSETTO:+0200
TZNAME:CEST
DTSTART:20250330T010000
END:DAYLIGHT
BEGIN:STANDARD
TZOFFSETFROM:+0200
TZOFFSETTO:+0100
TZNAME:CET
DTSTART:20251026T010000
END:STANDARD
BEGIN:DAYLIGHT
TZOFFSETFROM:+0100
TZOFFSETTO:+0200
TZNAME:CEST
DTSTART:20260329T010000
END:DAYLIGHT
BEGIN:STANDARD
TZOFFSETFROM:+0200
TZOFFSETTO:+0100
TZNAME:CET
DTSTART:20261025T010000
END:STANDARD
BEGIN:DAYLIGHT
TZOFFSETFROM:+0100
TZOFFSETTO:+0200
TZNAME:CEST
DTSTART:20270328T010000
END:DAYLIGHT
BEGIN:STANDARD
TZOFFSETFROM:+0200
TZOFFSETTO:+0100
TZNAME:CET
DTSTART:20271031T010000
END:STANDARD
END:VTIMEZONE
BEGIN:VEVENT
DTSTART;TZID=Europe/Berlin:20260426T120000
DTEND;TZID=Europe/Berlin:20260426T180000
DTSTAMP:20260421T180223
CREATED:20260117T144707Z
LAST-MODIFIED:20260130T153551Z
UID:3812-1777204800-1777226400@www.vcvd.de
SUMMARY:Kölle Open Day
DESCRIPTION:Mit Teilemarkt und Grillstand \n 
URL:https://www.vcvd.de/termin/koelle-open-day/
LOCATION:Bahnhof Nord\, Bottrop\, Am Vorthbach 10\, Bottrop\, 46240
END:VEVENT
END:VCALENDAR